BEGIN:VCALENDAR
VERSION:2.0
PRODID:-//Lifelong Learners GTX - ECPv6.15.18//NONSGML v1.0//EN
CALSCALE:GREGORIAN
METHOD:PUBLISH
X-ORIGINAL-URL:https://lifelonglearnersgtx.com
X-WR-CALDESC:Events for Lifelong Learners GTX
REFRESH-INTERVAL;VALUE=DURATION:PT1H
X-Robots-Tag:noindex
X-PUBLISHED-TTL:PT1H
BEGIN:VTIMEZONE
TZID:America/Chicago
BEGIN:DAYLIGHT
TZOFFSETFROM:-0600
TZOFFSETTO:-0500
TZNAME:CDT
DTSTART:20250309T080000
END:DAYLIGHT
BEGIN:STANDARD
TZOFFSETFROM:-0500
TZOFFSETTO:-0600
TZNAME:CST
DTSTART:20251102T070000
END:STANDARD
BEGIN:DAYLIGHT
TZOFFSETFROM:-0600
TZOFFSETTO:-0500
TZNAME:CDT
DTSTART:20260308T080000
END:DAYLIGHT
BEGIN:STANDARD
TZOFFSETFROM:-0500
TZOFFSETTO:-0600
TZNAME:CST
DTSTART:20261101T070000
END:STANDARD
BEGIN:DAYLIGHT
TZOFFSETFROM:-0600
TZOFFSETTO:-0500
TZNAME:CDT
DTSTART:20270314T080000
END:DAYLIGHT
BEGIN:STANDARD
TZOFFSETFROM:-0500
TZOFFSETTO:-0600
TZNAME:CST
DTSTART:20271107T070000
END:STANDARD
END:VTIMEZONE
BEGIN:VEVENT
DTSTART;TZID=America/Chicago:20260415T190000
DTEND;TZID=America/Chicago:20260415T203000
DTSTAMP:20260419T080003
CREATED:20260308T222537Z
LAST-MODIFIED:20260308T222537Z
UID:10000067-1776279600-1776285000@lifelonglearnersgtx.com
SUMMARY:The 2026 Roy and Margaret Shilling Lecture with Amor Towles
DESCRIPTION:We are excited to welcome author Amor Towles to our campus for the 2026 Roy and Margaret Shilling Lecture! Details are below if your members are interested.\n\nThe 2026 Roy and Margaret Shilling Lecture with Amor Towles\nApril 15\, 2026 @ 7:00 p.m.\nSouthwestern University\n\nAlma Thomas Fine Arts Center\n1001 E. University Avenue\nGeorgetown\, TX 78626\n\n\nEvent Website\n\nDescription:\n\nSouthwestern University welcomes award-winning\, bestselling author Amor Towles as the guest speaker at the 2026 Roy and Margaret Shilling Lecture.\n\n\nThe moderated discussion with Towles will be hosted in the Alma Thomas Theater. A book signing will follow.\n\n\nThe Shilling Lecture Series is free and open to the public\, but seating is limited. The doors will open at 6:30 p.m.\n\n\nRSVP here to claim your free ticket.
URL:https://lifelonglearnersgtx.com/event/the-2026-roy-and-margaret-shilling-lecture-with-amor-towles/
CATEGORIES:Community Events
ORGANIZER;CN="Lifelong Learners GTX":MAILTO:admin@lifelonglearnersgtx.com
END:VEVENT
END:VCALENDAR